BEGIN:VCALENDAR
VERSION:2.0
PRODID:-//Coastal Bend CASA - ECPv6.15.20//NONSGML v1.0//EN
CALSCALE:GREGORIAN
METHOD:PUBLISH
X-ORIGINAL-URL:https://coastalbendcasa.org
X-WR-CALDESC:Events for Coastal Bend CASA
REFRESH-INTERVAL;VALUE=DURATION:PT1H
X-Robots-Tag:noindex
X-PUBLISHED-TTL:PT1H
BEGIN:VTIMEZONE
TZID:America/Chicago
BEGIN:DAYLIGHT
TZOFFSETFROM:-0600
TZOFFSETTO:-0500
TZNAME:CDT
DTSTART:20250309T080000
END:DAYLIGHT
BEGIN:STANDARD
TZOFFSETFROM:-0500
TZOFFSETTO:-0600
TZNAME:CST
DTSTART:20251102T070000
END:STANDARD
BEGIN:DAYLIGHT
TZOFFSETFROM:-0600
TZOFFSETTO:-0500
TZNAME:CDT
DTSTART:20260308T080000
END:DAYLIGHT
BEGIN:STANDARD
TZOFFSETFROM:-0500
TZOFFSETTO:-0600
TZNAME:CST
DTSTART:20261101T070000
END:STANDARD
BEGIN:DAYLIGHT
TZOFFSETFROM:-0600
TZOFFSETTO:-0500
TZNAME:CDT
DTSTART:20270314T080000
END:DAYLIGHT
BEGIN:STANDARD
TZOFFSETFROM:-0500
TZOFFSETTO:-0600
TZNAME:CST
DTSTART:20271107T070000
END:STANDARD
END:VTIMEZONE
BEGIN:VEVENT
DTSTART;TZID=America/Chicago:20260707T120000
DTEND;TZID=America/Chicago:20260707T130000
DTSTAMP:20260420T060026
CREATED:20260209T185720Z
LAST-MODIFIED:20260316T162125Z
UID:10000045-1783425600-1783429200@coastalbendcasa.org
SUMMARY:In Service Training:  Human Trafficking
DESCRIPTION:Sharon Ray with New Life Refuge will present on an overview of human trafficking\, signs to look for\, services New Life Refuge provides and more.  A light lunch will be provided. Please plan to join us and RSVP to Diana Booth at diana@coastalbendcasa.org \n  \n 
URL:https://coastalbendcasa.org/event/in-service-training-human-trafficking/
LOCATION:CASA of the CB\, 2602 Prescott St\, Corpus Christi\, TX\, 78404\, United States
END:VEVENT
END:VCALENDAR